BEGIN:VCALENDAR
VERSION:2.0
METHOD:PUBLISH
X-WR-CALNAME:Matangi School |  January 01 2018- February 01 2018 | Filter\: 
PRODID:-//strange bird labs//Drupal iCal API//EN
BEGIN:VEVENT
DTSTAMP;VALUE=DATE-TIME:20180124T052357Z
DTSTART;VALUE=DATE-TIME:20180130T215300Z
DTEND;VALUE=DATE-TIME:20020203
UID:http://matangi.school.nz/start-of-term-1
URL;VALUE=URI:http://matangi.school.nz/start-of-term-1
SUMMARY:Start of Term 1
END:VEVENT
END:VCALENDAR
