BEGIN:VCALENDAR
VERSION:2.0
METHOD:PUBLISH
X-WR-CALNAME:Matangi School |  February 01 2018- March 01 2018
PRODID:-//strange bird labs//Drupal iCal API//EN
BEGIN:VEVENT
DTSTAMP;VALUE=DATE-TIME:20181224T064203Z
DTSTART;VALUE=DATE-TIME:20180205T014700Z
DTEND;VALUE=DATE-TIME:20180205T014700Z
UID:http://matangi.school.nz/school-closed
URL;VALUE=URI:http://matangi.school.nz/school-closed
SUMMARY:School Closed 
END:VEVENT
BEGIN:VEVENT
DTSTAMP;VALUE=DATE-TIME:20181224T064203Z
DTSTART;VALUE=DATE-TIME:20180206T014700Z
DTEND;VALUE=DATE-TIME:20180206T014700Z
UID:http://matangi.school.nz/waitangi-day-school-closed
URL;VALUE=URI:http://matangi.school.nz/waitangi-day-school-closed
SUMMARY:Waitangi Day School Closed
END:VEVENT
BEGIN:VEVENT
DTSTAMP;VALUE=DATE-TIME:20181224T064203Z
DTSTART;VALUE=DATE-TIME:20180207T220000Z
DTEND;VALUE=DATE-TIME:20180207T220000Z
UID:http://matangi.school.nz/footsteps-dance-programme
URL;VALUE=URI:http://matangi.school.nz/footsteps-dance-programme
SUMMARY:Footsteps Dance Programme
DESCRIPTION:<p>Each class will participate in a dance session run by a professional dance company Footsteps.</p>
 
END:VEVENT
BEGIN:VEVENT
DTSTAMP;VALUE=DATE-TIME:20181224T064203Z
DTSTART;VALUE=DATE-TIME:20180208T050000Z
DTEND;VALUE=DATE-TIME:20180208T050000Z
UID:http://matangi.school.nz/parent-information-evening
URL;VALUE=URI:http://matangi.school.nz/parent-information-evening
SUMMARY:Parent Information Evening
DESCRIPTION:<p>6pm</p>
 <p>An evening to provide information to parents/caregivers about their area of the school.</p>
 <p>The senior and junior school teachers will spend a session explaning the expectations around their area.&nbsp\; We will then complete the session again for those parents who have children in both areas of the school.&nbsp\; You may have sometime to chat to your child's teacher.</p>
 <p>Please assemble on the back deck under the shade sails and you will then be directed to a senior or junior area.&nbsp\; Please note that Kowhai will there information evening on another night.</p>
 
END:VEVENT
BEGIN:VEVENT
DTSTAMP;VALUE=DATE-TIME:20181224T064203Z
DTSTART;VALUE=DATE-TIME:20180209T010000Z
DTEND;VALUE=DATE-TIME:20180209T010000Z
UID:http://matangi.school.nz/school-assembly
URL;VALUE=URI:http://matangi.school.nz/school-assembly
SUMMARY:School Assembly
DESCRIPTION:<p>Our first school assembly</p>
 <p>This will be held under the shade sails at 2pm and hosted by K1.</p>
 <p>&nbsp\;</p>
 
END:VEVENT
BEGIN:VEVENT
DTSTAMP;VALUE=DATE-TIME:20181224T064203Z
DTSTART;VALUE=DATE-TIME:20180215T213000Z
DTEND;VALUE=DATE-TIME:20180215T213000Z
UID:http://matangi.school.nz/school-triathlon
URL;VALUE=URI:http://matangi.school.nz/school-triathlon
SUMMARY:School Triathlon
DESCRIPTION:<p>Times and information will be sent out next week.</p>
 <p>Bike\, swim and run.</p>
 
END:VEVENT
BEGIN:VEVENT
DTSTAMP;VALUE=DATE-TIME:20181224T064203Z
DTSTART;VALUE=DATE-TIME:20180223T010000Z
DTEND;VALUE=DATE-TIME:20180223T010000Z
UID:http://matangi.school.nz/school-assembly-0
URL;VALUE=URI:http://matangi.school.nz/school-assembly-0
SUMMARY:School Assembly
DESCRIPTION:<p>School assembly will be held under the shade sail if weather is fine.</p>
 <p>Starting at 2pm</p>
 
END:VEVENT
END:VCALENDAR
