BEGIN:VCALENDAR
VERSION:2.0
METHOD:PUBLISH
X-WR-CALNAME:Matangi School |  March 01 2018- April 01 2018 | Filter\: 
PRODID:-//strange bird labs//Drupal iCal API//EN
BEGIN:VEVENT
DTSTAMP;VALUE=DATE-TIME:20181224T063943Z
DTSTART;VALUE=DATE-TIME:20180307T204400Z
DTEND;VALUE=DATE-TIME:20020203
UID:http://matangi.school.nz/matangi-school-swimming-sports
URL;VALUE=URI:http://matangi.school.nz/matangi-school-swimming-sports
SUMMARY:Matangi School Swimming Sports
DESCRIPTION:<p>Seniors 9am - 12\:30pm</p>
 <p>Juniors 1\:30pm</p>
 
END:VEVENT
BEGIN:VEVENT
DTSTAMP;VALUE=DATE-TIME:20181224T063943Z
DTSTART;VALUE=DATE-TIME:20180308T130000Z
DTEND;VALUE=DATE-TIME:20180308T130000Z
UID:http://matangi.school.nz/school-assembly-1
URL;VALUE=URI:http://matangi.school.nz/school-assembly-1
SUMMARY:School Assembly
END:VEVENT
BEGIN:VEVENT
DTSTAMP;VALUE=DATE-TIME:20181224T063943Z
DTSTART;VALUE=DATE-TIME:20180319T204600Z
DTEND;VALUE=DATE-TIME:20020203
UID:http://matangi.school.nz/country-cluster-swimming-tamahere-school
URL;VALUE=URI:http://matangi.school.nz/country-cluster-swimming-tamahere-school
SUMMARY:Country Cluster Swimming - Tamahere School
END:VEVENT
BEGIN:VEVENT
DTSTAMP;VALUE=DATE-TIME:20181224T063943Z
DTSTART;VALUE=DATE-TIME:20180322T130000Z
DTEND;VALUE=DATE-TIME:20180322T130000Z
UID:http://matangi.school.nz/school-assembly-2
URL;VALUE=URI:http://matangi.school.nz/school-assembly-2
SUMMARY:School Assembly
END:VEVENT
BEGIN:VEVENT
DTSTAMP;VALUE=DATE-TIME:20181224T063943Z
DTSTART;VALUE=DATE-TIME:20180325T204700Z
DTEND;VALUE=DATE-TIME:20020203
UID:http://matangi.school.nz/school-photos
URL;VALUE=URI:http://matangi.school.nz/school-photos
SUMMARY:School Photos
END:VEVENT
BEGIN:VEVENT
DTSTAMP;VALUE=DATE-TIME:20181224T063943Z
DTSTART;VALUE=DATE-TIME:20180328T204700Z
DTEND;VALUE=DATE-TIME:20020203
UID:http://matangi.school.nz/city-country-swimming-sports
URL;VALUE=URI:http://matangi.school.nz/city-country-swimming-sports
SUMMARY:City/ Country Swimming Sports
END:VEVENT
BEGIN:VEVENT
DTSTAMP;VALUE=DATE-TIME:20181224T063943Z
DTSTART;VALUE=DATE-TIME:20180329T205000Z
DTEND;VALUE=DATE-TIME:20020203
UID:http://matangi.school.nz/easter-holiday
URL;VALUE=URI:http://matangi.school.nz/easter-holiday
SUMMARY:Easter Holiday
END:VEVENT
END:VCALENDAR
