BEGIN:VCALENDAR
VERSION:2.0
METHOD:PUBLISH
X-WR-CALNAME:Matangi School |  April 01 2018- May 01 2018 | Filter\: 
PRODID:-//strange bird labs//Drupal iCal API//EN
BEGIN:VEVENT
DTSTAMP;VALUE=DATE-TIME:20181224T063007Z
DTSTART;VALUE=DATE-TIME:20180401T205100Z
DTEND;VALUE=DATE-TIME:20020203
UID:http://matangi.school.nz/easter-holiday-0
URL;VALUE=URI:http://matangi.school.nz/easter-holiday-0
SUMMARY:Easter Holiday
END:VEVENT
BEGIN:VEVENT
DTSTAMP;VALUE=DATE-TIME:20181224T063007Z
DTSTART;VALUE=DATE-TIME:20180402T205100Z
DTEND;VALUE=DATE-TIME:20020203
UID:http://matangi.school.nz/easter-holiday-1
URL;VALUE=URI:http://matangi.school.nz/easter-holiday-1
SUMMARY:Easter Holiday
END:VEVENT
BEGIN:VEVENT
DTSTAMP;VALUE=DATE-TIME:20181224T063007Z
DTSTART;VALUE=DATE-TIME:20180405T130000Z
DTEND;VALUE=DATE-TIME:20180405T130000Z
UID:http://matangi.school.nz/school-assembly-3
URL;VALUE=URI:http://matangi.school.nz/school-assembly-3
SUMMARY:School Assembly
END:VEVENT
BEGIN:VEVENT
DTSTAMP;VALUE=DATE-TIME:20181224T063007Z
DTSTART;VALUE=DATE-TIME:20180406T210000Z
DTEND;VALUE=DATE-TIME:20180406T210000Z
UID:http://matangi.school.nz/car-boot-fair
URL;VALUE=URI:http://matangi.school.nz/car-boot-fair
SUMMARY:Car Boot Fair
END:VEVENT
BEGIN:VEVENT
DTSTAMP;VALUE=DATE-TIME:20181224T063007Z
DTSTART;VALUE=DATE-TIME:20180410T205200Z
DTEND;VALUE=DATE-TIME:20020203
UID:http://matangi.school.nz/country-cluster-tabloid-sports
URL;VALUE=URI:http://matangi.school.nz/country-cluster-tabloid-sports
SUMMARY:Country Cluster Tabloid Sports
END:VEVENT
BEGIN:VEVENT
DTSTAMP;VALUE=DATE-TIME:20181224T063007Z
DTSTART;VALUE=DATE-TIME:20180411T203400Z
DTEND;VALUE=DATE-TIME:20020203
UID:http://matangi.school.nz/rimu-camp
URL;VALUE=URI:http://matangi.school.nz/rimu-camp
SUMMARY:Rimu Camp
END:VEVENT
BEGIN:VEVENT
DTSTAMP;VALUE=DATE-TIME:20181224T063007Z
DTSTART;VALUE=DATE-TIME:20180412T205300Z
DTEND;VALUE=DATE-TIME:20020203
UID:http://matangi.school.nz/end-of-term-1
URL;VALUE=URI:http://matangi.school.nz/end-of-term-1
SUMMARY:End of Term 1
END:VEVENT
BEGIN:VEVENT
DTSTAMP;VALUE=DATE-TIME:20181224T063007Z
DTSTART;VALUE=DATE-TIME:20180429T194600Z
DTEND;VALUE=DATE-TIME:20180429T194600Z
UID:http://matangi.school.nz/start-of-term-2-0
URL;VALUE=URI:http://matangi.school.nz/start-of-term-2-0
SUMMARY:Opening of New Building 9am
END:VEVENT
BEGIN:VEVENT
DTSTAMP;VALUE=DATE-TIME:20181224T063007Z
DTSTART;VALUE=DATE-TIME:20180429T205300Z
DTEND;VALUE=DATE-TIME:20020203
UID:http://matangi.school.nz/start-of-term-2
URL;VALUE=URI:http://matangi.school.nz/start-of-term-2
SUMMARY:Start of Term 2
END:VEVENT
END:VCALENDAR
