BEGIN:VCALENDAR
VERSION:2.0
METHOD:PUBLISH
X-WR-CALNAME:Matangi School |  May 01 2018- June 01 2018 | Filter\: 
PRODID:-//strange bird labs//Drupal iCal API//EN
BEGIN:VEVENT
DTSTAMP;VALUE=DATE-TIME:20181223T232150Z
DTSTART;VALUE=DATE-TIME:20180502T194800Z
DTEND;VALUE=DATE-TIME:20180502T194800Z
UID:http://matangi.school.nz/digital-technology-parent-info-meeting
URL;VALUE=URI:http://matangi.school.nz/digital-technology-parent-info-meeting
SUMMARY:Digital Technology Parent Info Meeting
END:VEVENT
BEGIN:VEVENT
DTSTAMP;VALUE=DATE-TIME:20181223T232150Z
DTSTART;VALUE=DATE-TIME:20180509T195000Z
DTEND;VALUE=DATE-TIME:20180509T195000Z
UID:http://matangi.school.nz/leadership-day-seniors
URL;VALUE=URI:http://matangi.school.nz/leadership-day-seniors
SUMMARY:Leadership Day - Seniors
END:VEVENT
BEGIN:VEVENT
DTSTAMP;VALUE=DATE-TIME:20181223T232150Z
DTSTART;VALUE=DATE-TIME:20180522T195800Z
DTEND;VALUE=DATE-TIME:20180522T195800Z
UID:http://matangi.school.nz/junior-road-safety-dan-the-puppet-man
URL;VALUE=URI:http://matangi.school.nz/junior-road-safety-dan-the-puppet-man
SUMMARY:Junior Road Safety - Dan the Puppet Man
END:VEVENT
END:VCALENDAR
